BEGIN:VCALENDAR
VERSION:2.0
PRODID:-//La Truite de l&#039;Iton - ECPv6.15.20//NONSGML v1.0//EN
CALSCALE:GREGORIAN
METHOD:PUBLISH
X-WR-CALNAME:La Truite de l&#039;Iton
X-ORIGINAL-URL:https://www.latruitedeliton.fr
X-WR-CALDESC:Évènements pour La Truite de l&#039;Iton
REFRESH-INTERVAL;VALUE=DURATION:PT1H
X-Robots-Tag:noindex
X-PUBLISHED-TTL:PT1H
BEGIN:VTIMEZONE
TZID:Europe/Paris
BEGIN:DAYLIGHT
TZOFFSETFROM:+0100
TZOFFSETTO:+0200
TZNAME:CEST
DTSTART:20180325T010000
END:DAYLIGHT
BEGIN:STANDARD
TZOFFSETFROM:+0200
TZOFFSETTO:+0100
TZNAME:CET
DTSTART:20181028T010000
END:STANDARD
BEGIN:DAYLIGHT
TZOFFSETFROM:+0100
TZOFFSETTO:+0200
TZNAME:CEST
DTSTART:20190331T010000
END:DAYLIGHT
BEGIN:STANDARD
TZOFFSETFROM:+0200
TZOFFSETTO:+0100
TZNAME:CET
DTSTART:20191027T010000
END:STANDARD
BEGIN:DAYLIGHT
TZOFFSETFROM:+0100
TZOFFSETTO:+0200
TZNAME:CEST
DTSTART:20200329T010000
END:DAYLIGHT
BEGIN:STANDARD
TZOFFSETFROM:+0200
TZOFFSETTO:+0100
TZNAME:CET
DTSTART:20201025T010000
END:STANDARD
END:VTIMEZONE
BEGIN:VEVENT
DTSTART;TZID=Europe/Paris:20190302T100000
DTEND;TZID=Europe/Paris:20190302T120000
DTSTAMP:20260426T051405
CREATED:20181118T164604Z
LAST-MODIFIED:20190127T083408Z
UID:2616-1551520800-1551528000@www.latruitedeliton.fr
SUMMARY:Assemblée générale
DESCRIPTION:Les membres du Conseil d’Administration ont le plaisir de vous informer que l’Assemblée Générale de notre association se tiendra le: \nsamedi 02 mars  2019 à 10h \nsalle Jacqueline Duval à la Mairie d’Evreux \nL’ordre du jour retenu est le suivant : \nApprobation du rapport d’activités et financier 2018 \n\nPrésentation et adoption du budget et des activités 2019\nAdoption du règlement intérieur 2019\nElection de vérificateurs aux comptes\nQuestions diverses\n\nSeuls les membres actifs* de l’association pourront prendre part au vote lors de l’assemblée générale. \nSi vous souhaitez rejoindre le conseil d’administration\, merci de vous faire connaître à : latruitedeliton@gmail.com \nImportant : Pour vous présenter au CA\, vous devez avoir votre carte de pêche 2018 et 2019. \nN’oubliez pas de vous munir de votre carte de pêche ! \nL’assemblée générale sera clôturée par un verre de l’amitié \n*Important : Sont membres actifs les adhérents à qui l’association a délivré une carte « personne majeure »\, une carte «personne mineure » ou toute carte promotionnelle annuelle éditée par la Fédération nationale donnant lieu au paiement de la cotisation pêche et milieux aquatiques et la redevance pour protection du milieu aquatique prévue à l’article L. 213-10-12 du code de l’environnement.
URL:https://www.latruitedeliton.fr/agenda/assemblee-generale-3/
END:VEVENT
END:VCALENDAR