BEGIN:VCALENDAR
VERSION:2.0
PRODID:-//La Truite de l&#039;Iton - ECPv6.15.20//NONSGML v1.0//EN
CALSCALE:GREGORIAN
METHOD:PUBLISH
X-WR-CALNAME:La Truite de l&#039;Iton
X-ORIGINAL-URL:https://www.latruitedeliton.fr
X-WR-CALDESC:Évènements pour La Truite de l&#039;Iton
REFRESH-INTERVAL;VALUE=DURATION:PT1H
X-Robots-Tag:noindex
X-PUBLISHED-TTL:PT1H
BEGIN:VTIMEZONE
TZID:Europe/Paris
BEGIN:DAYLIGHT
TZOFFSETFROM:+0100
TZOFFSETTO:+0200
TZNAME:CEST
DTSTART:20210328T010000
END:DAYLIGHT
BEGIN:STANDARD
TZOFFSETFROM:+0200
TZOFFSETTO:+0100
TZNAME:CET
DTSTART:20211031T010000
END:STANDARD
BEGIN:DAYLIGHT
TZOFFSETFROM:+0100
TZOFFSETTO:+0200
TZNAME:CEST
DTSTART:20220327T010000
END:DAYLIGHT
BEGIN:STANDARD
TZOFFSETFROM:+0200
TZOFFSETTO:+0100
TZNAME:CET
DTSTART:20221030T010000
END:STANDARD
BEGIN:DAYLIGHT
TZOFFSETFROM:+0100
TZOFFSETTO:+0200
TZNAME:CEST
DTSTART:20230326T010000
END:DAYLIGHT
BEGIN:STANDARD
TZOFFSETFROM:+0200
TZOFFSETTO:+0100
TZNAME:CET
DTSTART:20231029T010000
END:STANDARD
END:VTIMEZONE
BEGIN:VEVENT
DTSTART;TZID=Europe/Paris:20220505T140000
DTEND;TZID=Europe/Paris:20220508T235900
DTSTAMP:20260423T161849
CREATED:20220424T203815Z
LAST-MODIFIED:20220424T204128Z
UID:4933-1651759200-1652054340@www.latruitedeliton.fr
SUMMARY:Fermeture des étangs de la Croix-Saint-Leufroy
DESCRIPTION:En raison de l’Enduro-Carpes\, les étangs seront fermés.
URL:https://www.latruitedeliton.fr/agenda/fermeture-des-etangs-de-la-croix-saint-leufroy-2/
LOCATION:La Croix Saint Leufroy
ATTACH;FMTTYPE=image/jpeg:https://www.latruitedeliton.fr/wp-content/uploads/2022/04/carpe1.jpg
END:VEVENT
END:VCALENDAR