BEGIN:VCALENDAR
VERSION:2.0
PRODID:-//La Truite de l&#039;Iton - ECPv6.15.20//NONSGML v1.0//EN
CALSCALE:GREGORIAN
METHOD:PUBLISH
X-WR-CALNAME:La Truite de l&#039;Iton
X-ORIGINAL-URL:https://www.latruitedeliton.fr
X-WR-CALDESC:Évènements pour La Truite de l&#039;Iton
REFRESH-INTERVAL;VALUE=DURATION:PT1H
X-Robots-Tag:noindex
X-PUBLISHED-TTL:PT1H
BEGIN:VTIMEZONE
TZID:Europe/Paris
BEGIN:DAYLIGHT
TZOFFSETFROM:+0100
TZOFFSETTO:+0200
TZNAME:CEST
DTSTART:20190331T010000
END:DAYLIGHT
BEGIN:STANDARD
TZOFFSETFROM:+0200
TZOFFSETTO:+0100
TZNAME:CET
DTSTART:20191027T010000
END:STANDARD
BEGIN:DAYLIGHT
TZOFFSETFROM:+0100
TZOFFSETTO:+0200
TZNAME:CEST
DTSTART:20200329T010000
END:DAYLIGHT
BEGIN:STANDARD
TZOFFSETFROM:+0200
TZOFFSETTO:+0100
TZNAME:CET
DTSTART:20201025T010000
END:STANDARD
BEGIN:DAYLIGHT
TZOFFSETFROM:+0100
TZOFFSETTO:+0200
TZNAME:CEST
DTSTART:20210328T010000
END:DAYLIGHT
BEGIN:STANDARD
TZOFFSETFROM:+0200
TZOFFSETTO:+0100
TZNAME:CET
DTSTART:20211031T010000
END:STANDARD
END:VTIMEZONE
BEGIN:VEVENT
DTSTART;VALUE=DATE:20200214
DTEND;VALUE=DATE:20200217
DTSTAMP:20260423T123229
CREATED:20191228T100755Z
LAST-MODIFIED:20191229T171946Z
UID:3305-1581638400-1581897599@www.latruitedeliton.fr
SUMMARY:Salon de la Pêche en mer à Nantes (44)
DESCRIPTION:
URL:https://www.latruitedeliton.fr/agenda/salon-de-la-peche-en-mer-a-nantes/
LOCATION:Nantes\, France
CATEGORIES:Animation,En bref,Salons
END:VEVENT
BEGIN:VEVENT
DTSTART;TZID=Europe/Paris:20200215T150000
DTEND;TZID=Europe/Paris:20200215T180000
DTSTAMP:20260423T123229
CREATED:20191226T112031Z
LAST-MODIFIED:20191230T192056Z
UID:2987-1581778800-1581789600@www.latruitedeliton.fr
SUMMARY:RISE à Evreux en 2 020 : Xième Festival du film de Pêche à la Mouche
DESCRIPTION:  \nNe loupez pas le RDV \ndu Samedi 15 Février 2020 \nà 15H00 au Cinéma Pathé  !\n  \n  \nRéservez vos places \npour le  Cinéma d’Evreux\n(Site Officiel du Festival)\n  \n  \n  \n \n  \n  \n  \nSite Officiel \n 
URL:https://www.latruitedeliton.fr/agenda/2987/
LOCATION:Cinéma Pathé\, 3 rue du 7ème chasseur\, Evreux\, 27000
CATEGORIES:Animation,Club Mouche,En bref,Vie du Club
ATTACH;FMTTYPE=image/jpeg:https://www.latruitedeliton.fr/wp-content/uploads/2019/12/LOGO-RISE-2019-transparent-e1580323659445.jpg
END:VEVENT
END:VCALENDAR