BEGIN:VCALENDAR
VERSION:2.0
PRODID:-//La Truite de l&#039;Iton - ECPv6.15.20//NONSGML v1.0//EN
CALSCALE:GREGORIAN
METHOD:PUBLISH
X-ORIGINAL-URL:https://www.latruitedeliton.fr
X-WR-CALDESC:Évènements pour La Truite de l&#039;Iton
REFRESH-INTERVAL;VALUE=DURATION:PT1H
X-Robots-Tag:noindex
X-PUBLISHED-TTL:PT1H
BEGIN:VTIMEZONE
TZID:Europe/Paris
BEGIN:DAYLIGHT
TZOFFSETFROM:+0100
TZOFFSETTO:+0200
TZNAME:CEST
DTSTART:20190331T010000
END:DAYLIGHT
BEGIN:STANDARD
TZOFFSETFROM:+0200
TZOFFSETTO:+0100
TZNAME:CET
DTSTART:20191027T010000
END:STANDARD
BEGIN:DAYLIGHT
TZOFFSETFROM:+0100
TZOFFSETTO:+0200
TZNAME:CEST
DTSTART:20200329T010000
END:DAYLIGHT
BEGIN:STANDARD
TZOFFSETFROM:+0200
TZOFFSETTO:+0100
TZNAME:CET
DTSTART:20201025T010000
END:STANDARD
BEGIN:DAYLIGHT
TZOFFSETFROM:+0100
TZOFFSETTO:+0200
TZNAME:CEST
DTSTART:20210328T010000
END:DAYLIGHT
BEGIN:STANDARD
TZOFFSETFROM:+0200
TZOFFSETTO:+0100
TZNAME:CET
DTSTART:20211031T010000
END:STANDARD
END:VTIMEZONE
BEGIN:VEVENT
DTSTART;VALUE=DATE:20200228
DTEND;VALUE=DATE:20200302
DTSTAMP:20260422T095527
CREATED:20191229T173525Z
LAST-MODIFIED:20191229T173828Z
UID:3378-1582848000-1583107199@www.latruitedeliton.fr
SUMMARY:Salon de la Pêche de Thoiry (01)
DESCRIPTION:
URL:https://www.latruitedeliton.fr/agenda/salon-de-la-peche-de-thoiry-01/
LOCATION:Thoiry\, 01
CATEGORIES:Club Mouche,En bref,Salons
END:VEVENT
BEGIN:VEVENT
DTSTART;VALUE=DATE:20200229
DTEND;VALUE=DATE:20200302
DTSTAMP:20260422T095527
CREATED:20191228T101902Z
LAST-MODIFIED:20191230T195629Z
UID:3313-1582934400-1583107199@www.latruitedeliton.fr
SUMMARY:Salon de la Pêche à la Carpe et au Silure de Montluçon (03)
DESCRIPTION:
URL:https://www.latruitedeliton.fr/agenda/salon-de-la-peche-a-la-carpe-et-au-silure-de-montlucon/
LOCATION:Montluçon
CATEGORIES:En bref,Salons,Vie du Club
END:VEVENT
BEGIN:VEVENT
DTSTART;VALUE=DATE:20200229
DTEND;VALUE=DATE:20200302
DTSTAMP:20260422T095527
CREATED:20191229T174806Z
LAST-MODIFIED:20191229T174852Z
UID:3385-1582934400-1583107199@www.latruitedeliton.fr
SUMMARY:Salon de la Pêche de Briatexte (81)
DESCRIPTION:
URL:https://www.latruitedeliton.fr/agenda/salon-de-la-peche-de-briatexte-81/
LOCATION:Briatexte
CATEGORIES:Club Mouche,En bref,Salons
END:VEVENT
BEGIN:VEVENT
DTSTART;TZID=Europe/Paris:20200307T140000
DTEND;TZID=Europe/Paris:20200307T170000
DTSTAMP:20260422T095527
CREATED:20191223T094206Z
LAST-MODIFIED:20191230T202407Z
UID:2958-1583589600-1583600400@www.latruitedeliton.fr
SUMMARY:Club mouche
DESCRIPTION:  \nde 14h00 à 17h00 \nMairie de Glisolles \n16 Rue du Duc de Clermont Tonnerre\nGlisolles\, 27190 France
URL:https://www.latruitedeliton.fr/agenda/club-mouche-48/
LOCATION:Mairie de Glisolles\, 16 Rue du Duc de Clermont Tonnerre\, Glisolles\, 27190\, France
CATEGORIES:Animation,Club Mouche,En bref
ORGANIZER;CN="Jean-Alexif DELABARRE":MAILTO:jademouche@orange.fr
END:VEVENT
BEGIN:VEVENT
DTSTART;VALUE=DATE:20200314
DTEND;VALUE=DATE:20200315
DTSTAMP:20260422T095527
CREATED:20191223T095309Z
LAST-MODIFIED:20191230T193619Z
UID:2965-1584144000-1584230399@www.latruitedeliton.fr
SUMMARY:Ouverture de la Pêche à la Truite
DESCRIPTION: 
URL:https://www.latruitedeliton.fr/agenda/ouverture-de-la-peche-a-la-truite/
CATEGORIES:Club Mouche,En bref,Vie du Club
END:VEVENT
BEGIN:VEVENT
DTSTART;TZID=Europe/Paris:20200321T140000
DTEND;TZID=Europe/Paris:20200321T170000
DTSTAMP:20260422T095527
CREATED:20191223T094402Z
LAST-MODIFIED:20191230T202347Z
UID:2960-1584799200-1584810000@www.latruitedeliton.fr
SUMMARY:Club Mouche
DESCRIPTION:  \nde 14h00 à 17h00 \nMairie de Glisolles \n16 Rue du Duc de Clermont Tonnerre\nGlisolles\,\n 27190 France
URL:https://www.latruitedeliton.fr/agenda/2960/
LOCATION:Mairie de Glisolles\, 16 Rue du Duc de Clermont Tonnerre\, Glisolles\, 27190\, France
CATEGORIES:Animation,Club Mouche,En bref
ORGANIZER;CN="Jean-Alexif DELABARRE":MAILTO:jademouche@orange.fr
END:VEVENT
END:VCALENDAR