BEGIN:VCALENDAR
VERSION:2.0
PRODID:-//La Truite de l&#039;Iton - ECPv6.15.20//NONSGML v1.0//EN
CALSCALE:GREGORIAN
METHOD:PUBLISH
X-WR-CALNAME:La Truite de l&#039;Iton
X-ORIGINAL-URL:https://www.latruitedeliton.fr
X-WR-CALDESC:Évènements pour La Truite de l&#039;Iton
REFRESH-INTERVAL;VALUE=DURATION:PT1H
X-Robots-Tag:noindex
X-PUBLISHED-TTL:PT1H
BEGIN:VTIMEZONE
TZID:Europe/Paris
BEGIN:DAYLIGHT
TZOFFSETFROM:+0100
TZOFFSETTO:+0200
TZNAME:CEST
DTSTART:20190331T010000
END:DAYLIGHT
BEGIN:STANDARD
TZOFFSETFROM:+0200
TZOFFSETTO:+0100
TZNAME:CET
DTSTART:20191027T010000
END:STANDARD
BEGIN:DAYLIGHT
TZOFFSETFROM:+0100
TZOFFSETTO:+0200
TZNAME:CEST
DTSTART:20200329T010000
END:DAYLIGHT
BEGIN:STANDARD
TZOFFSETFROM:+0200
TZOFFSETTO:+0100
TZNAME:CET
DTSTART:20201025T010000
END:STANDARD
BEGIN:DAYLIGHT
TZOFFSETFROM:+0100
TZOFFSETTO:+0200
TZNAME:CEST
DTSTART:20210328T010000
END:DAYLIGHT
BEGIN:STANDARD
TZOFFSETFROM:+0200
TZOFFSETTO:+0100
TZNAME:CET
DTSTART:20211031T010000
END:STANDARD
END:VTIMEZONE
BEGIN:VEVENT
DTSTART;TZID=Europe/Paris:20200528T180000
DTEND;TZID=Europe/Paris:20200602T080000
DTSTAMP:20260422T062224
CREATED:20200525T083052Z
LAST-MODIFIED:20200525T083052Z
UID:3600-1590688800-1591084800@www.latruitedeliton.fr
SUMMARY:Suspension de la pêche de jour aux étangs afin de préparer l'ENDURO !
DESCRIPTION:Suspension de la pêche de jour aux étangs du Jeudi 21 Mai à 18hoo afin de préparer l’ENDURO ! \nLa pêche reprendra normalement Mardi 02 Juin. \nMerci de votre compréhension.
URL:https://www.latruitedeliton.fr/agenda/suspension-de-la-peche-de-jour-aux-etangs-afin-de-preparer-lenduro/
CATEGORIES:Animation,En bref,Les étangs
ATTACH;FMTTYPE=image/jpeg:https://www.latruitedeliton.fr/wp-content/uploads/2020/05/carpe2.jpg
END:VEVENT
BEGIN:VEVENT
DTSTART;TZID=Europe/Paris:20200613T140000
DTEND;TZID=Europe/Paris:20200613T170000
DTSTAMP:20260422T062224
CREATED:20191230T200550Z
LAST-MODIFIED:20200525T193614Z
UID:3459-1592056800-1592067600@www.latruitedeliton.fr
SUMMARY:Reprise du Club Mouche
DESCRIPTION:
URL:https://www.latruitedeliton.fr/agenda/club-mouche-55/
LOCATION:Mairie de Glisolles\, 16 Rue du Duc de Clermont Tonnerre\, Glisolles\, 27190\, France
CATEGORIES:Animation,Club Mouche,En bref
ORGANIZER;CN="Jean-Alexif DELABARRE":MAILTO:jademouche@orange.fr
END:VEVENT
BEGIN:VEVENT
DTSTART;TZID=Europe/Paris:20200627T130000
DTEND;TZID=Europe/Paris:20200627T170000
DTSTAMP:20260422T062224
CREATED:20191230T193113Z
LAST-MODIFIED:20200525T193639Z
UID:3447-1593262800-1593277200@www.latruitedeliton.fr
SUMMARY:Reprise du Club Mouche
DESCRIPTION:  \n  \n 
URL:https://www.latruitedeliton.fr/agenda/club-mouche-52/
LOCATION:Mairie de Glisolles\, 16 Rue du Duc de Clermont Tonnerre\, Glisolles\, 27190\, France
CATEGORIES:Animation,Club Mouche,En bref
ORGANIZER;CN="Jean-Alexif DELABARRE":MAILTO:jademouche@orange.fr
END:VEVENT
END:VCALENDAR