BEGIN:VCALENDAR
VERSION:2.0
PRODID:-//La Truite de l&#039;Iton - ECPv6.15.20//NONSGML v1.0//EN
CALSCALE:GREGORIAN
METHOD:PUBLISH
X-ORIGINAL-URL:https://www.latruitedeliton.fr
X-WR-CALDESC:Évènements pour La Truite de l&#039;Iton
REFRESH-INTERVAL;VALUE=DURATION:PT1H
X-Robots-Tag:noindex
X-PUBLISHED-TTL:PT1H
BEGIN:VTIMEZONE
TZID:Europe/Paris
BEGIN:DAYLIGHT
TZOFFSETFROM:+0100
TZOFFSETTO:+0200
TZNAME:CEST
DTSTART:20200329T010000
END:DAYLIGHT
BEGIN:STANDARD
TZOFFSETFROM:+0200
TZOFFSETTO:+0100
TZNAME:CET
DTSTART:20201025T010000
END:STANDARD
BEGIN:DAYLIGHT
TZOFFSETFROM:+0100
TZOFFSETTO:+0200
TZNAME:CEST
DTSTART:20210328T010000
END:DAYLIGHT
BEGIN:STANDARD
TZOFFSETFROM:+0200
TZOFFSETTO:+0100
TZNAME:CET
DTSTART:20211031T010000
END:STANDARD
BEGIN:DAYLIGHT
TZOFFSETFROM:+0100
TZOFFSETTO:+0200
TZNAME:CEST
DTSTART:20220327T010000
END:DAYLIGHT
BEGIN:STANDARD
TZOFFSETFROM:+0200
TZOFFSETTO:+0100
TZNAME:CET
DTSTART:20221030T010000
END:STANDARD
END:VTIMEZONE
BEGIN:VEVENT
DTSTART;VALUE=DATE:20210424
DTEND;VALUE=DATE:20210425
DTSTAMP:20260421T155316
CREATED:20210425T170906Z
LAST-MODIFIED:20210425T170906Z
UID:4030-1619222400-1619308799@www.latruitedeliton.fr
SUMMARY:Ouverture de la pêche au brochet
DESCRIPTION:
URL:https://www.latruitedeliton.fr/agenda/ouverture-de-la-peche-au-brochet-2/
CATEGORIES:Animation,En bref,Vie du Club
END:VEVENT
BEGIN:VEVENT
DTSTART;VALUE=DATE:20210429
DTEND;VALUE=DATE:20210430
DTSTAMP:20260421T155316
CREATED:20210425T171031Z
LAST-MODIFIED:20210425T171031Z
UID:4032-1619654400-1619740799@www.latruitedeliton.fr
SUMMARY:Fermeture de TOUS nos étangs pour entretien
DESCRIPTION:
URL:https://www.latruitedeliton.fr/agenda/fermeture-de-tous-nos-etangs-pour-entretien/
CATEGORIES:En bref,Les étangs,Travaux
END:VEVENT
END:VCALENDAR