BEGIN:VCALENDAR
VERSION:2.0
PRODID:-//La Truite de l&#039;Iton - ECPv6.15.20//NONSGML v1.0//EN
CALSCALE:GREGORIAN
METHOD:PUBLISH
X-WR-CALNAME:La Truite de l&#039;Iton
X-ORIGINAL-URL:https://www.latruitedeliton.fr
X-WR-CALDESC:Évènements pour La Truite de l&#039;Iton
REFRESH-INTERVAL;VALUE=DURATION:PT1H
X-Robots-Tag:noindex
X-PUBLISHED-TTL:PT1H
BEGIN:VTIMEZONE
TZID:Europe/Paris
BEGIN:DAYLIGHT
TZOFFSETFROM:+0100
TZOFFSETTO:+0200
TZNAME:CEST
DTSTART:20210328T010000
END:DAYLIGHT
BEGIN:STANDARD
TZOFFSETFROM:+0200
TZOFFSETTO:+0100
TZNAME:CET
DTSTART:20211031T010000
END:STANDARD
BEGIN:DAYLIGHT
TZOFFSETFROM:+0100
TZOFFSETTO:+0200
TZNAME:CEST
DTSTART:20220327T010000
END:DAYLIGHT
BEGIN:STANDARD
TZOFFSETFROM:+0200
TZOFFSETTO:+0100
TZNAME:CET
DTSTART:20221030T010000
END:STANDARD
BEGIN:DAYLIGHT
TZOFFSETFROM:+0100
TZOFFSETTO:+0200
TZNAME:CEST
DTSTART:20230326T010000
END:DAYLIGHT
BEGIN:STANDARD
TZOFFSETFROM:+0200
TZOFFSETTO:+0100
TZNAME:CET
DTSTART:20231029T010000
END:STANDARD
END:VTIMEZONE
BEGIN:VEVENT
DTSTART;VALUE=DATE:20220219
DTEND;VALUE=DATE:20220221
DTSTAMP:20260421T031504
CREATED:20220615T125255Z
LAST-MODIFIED:20220615T125255Z
UID:5086-1645228800-1645401599@www.latruitedeliton.fr
SUMMARY:Salon Provençal de la Mouche - L'Isle-sur-Sorgue
DESCRIPTION:
URL:https://www.latruitedeliton.fr/agenda/salon-provencal-de-la-mouche-lisle-sur-sorgue/
LOCATION:L’Isle sur Sorgue
CATEGORIES:Club Mouche,En bref,Les étangs,Salons
ATTACH;FMTTYPE=image/jpeg:https://www.latruitedeliton.fr/wp-content/uploads/2022/06/isle-sorgue-2022.jpg
END:VEVENT
BEGIN:VEVENT
DTSTART;VALUE=DATE:20220219
DTEND;VALUE=DATE:20220221
DTSTAMP:20260421T031504
CREATED:20220615T131445Z
LAST-MODIFIED:20220615T132044Z
UID:5092-1645228800-1645401599@www.latruitedeliton.fr
SUMMARY:Salon des pêches à la mouche de Bretagne - Carhaix
DESCRIPTION:
URL:https://www.latruitedeliton.fr/agenda/salon-des-peches-a-la-mouche-de-bretagne-carhaix/
LOCATION:Carhaix
CATEGORIES:Club Mouche,En bref,Les étangs,Salons
ATTACH;FMTTYPE=image/jpeg:https://www.latruitedeliton.fr/wp-content/uploads/2022/01/Affiche_Carhaix2022_BD-724x1024-1.jpg
END:VEVENT
BEGIN:VEVENT
DTSTART;TZID=Europe/Paris:20220219T150000
DTEND;TZID=Europe/Paris:20220219T180000
DTSTAMP:20260421T031504
CREATED:20211107T080139Z
LAST-MODIFIED:20220114T135221Z
UID:4221-1645282800-1645293600@www.latruitedeliton.fr
SUMMARY:Festival RISE à Evreux le Samedi 19 Février 2022
DESCRIPTION:Samedi 19 Février 2022\, au cinéma Gaumont – Pathé d’Evreux à 15h00 aura lieu pour la seconde fois le Festival RISE ! \nVenez nombreux !
URL:https://www.latruitedeliton.fr/agenda/assemblee-generale-de-laappma/
LOCATION:Cinéma Pathé\, 3 rue du 7ème chasseur\, Evreux\, 27000
CATEGORIES:Animation,Club Mouche,En bref,Vie du Club
ATTACH;FMTTYPE=image/png:https://www.latruitedeliton.fr/wp-content/uploads/2022/01/image.png
END:VEVENT
END:VCALENDAR