BEGIN:VCALENDAR
VERSION:2.0
PRODID:-//La Truite de l&#039;Iton - ECPv6.15.20//NONSGML v1.0//EN
CALSCALE:GREGORIAN
METHOD:PUBLISH
X-ORIGINAL-URL:https://www.latruitedeliton.fr
X-WR-CALDESC:Évènements pour La Truite de l&#039;Iton
REFRESH-INTERVAL;VALUE=DURATION:PT1H
X-Robots-Tag:noindex
X-PUBLISHED-TTL:PT1H
BEGIN:VTIMEZONE
TZID:Europe/Paris
BEGIN:DAYLIGHT
TZOFFSETFROM:+0100
TZOFFSETTO:+0200
TZNAME:CEST
DTSTART:20220327T010000
END:DAYLIGHT
BEGIN:STANDARD
TZOFFSETFROM:+0200
TZOFFSETTO:+0100
TZNAME:CET
DTSTART:20221030T010000
END:STANDARD
BEGIN:DAYLIGHT
TZOFFSETFROM:+0100
TZOFFSETTO:+0200
TZNAME:CEST
DTSTART:20230326T010000
END:DAYLIGHT
BEGIN:STANDARD
TZOFFSETFROM:+0200
TZOFFSETTO:+0100
TZNAME:CET
DTSTART:20231029T010000
END:STANDARD
BEGIN:DAYLIGHT
TZOFFSETFROM:+0100
TZOFFSETTO:+0200
TZNAME:CEST
DTSTART:20240331T010000
END:DAYLIGHT
BEGIN:STANDARD
TZOFFSETFROM:+0200
TZOFFSETTO:+0100
TZNAME:CET
DTSTART:20241027T010000
END:STANDARD
END:VTIMEZONE
BEGIN:VEVENT
DTSTART;VALUE=DATE:20230303
DTEND;VALUE=DATE:20230306
DTSTAMP:20260420T082051
CREATED:20220615T103624Z
LAST-MODIFIED:20220615T122905Z
UID:5069-1677801600-1678060799@www.latruitedeliton.fr
SUMMARY:Salon de la Pêche en Mer - Nantes
DESCRIPTION:
URL:https://www.latruitedeliton.fr/agenda/salon-de-la-peche-en-mer-de-nantes/
LOCATION:Nantes\, France
CATEGORIES:Club Mouche,En bref,Salons
ATTACH;FMTTYPE=image/jpeg:https://www.latruitedeliton.fr/wp-content/uploads/2022/06/salon-de-la-peche-en-mer-3-173752-300-0.jpg
END:VEVENT
END:VCALENDAR