BEGIN:VCALENDAR
VERSION:2.0
PRODID:-//La Truite de l&#039;Iton - ECPv6.15.20//NONSGML v1.0//EN
CALSCALE:GREGORIAN
METHOD:PUBLISH
X-WR-CALNAME:La Truite de l&#039;Iton
X-ORIGINAL-URL:https://www.latruitedeliton.fr
X-WR-CALDESC:Évènements pour La Truite de l&#039;Iton
REFRESH-INTERVAL;VALUE=DURATION:PT1H
X-Robots-Tag:noindex
X-PUBLISHED-TTL:PT1H
BEGIN:VTIMEZONE
TZID:Europe/Paris
BEGIN:DAYLIGHT
TZOFFSETFROM:+0100
TZOFFSETTO:+0200
TZNAME:CEST
DTSTART:20180325T010000
END:DAYLIGHT
BEGIN:STANDARD
TZOFFSETFROM:+0200
TZOFFSETTO:+0100
TZNAME:CET
DTSTART:20181028T010000
END:STANDARD
BEGIN:DAYLIGHT
TZOFFSETFROM:+0100
TZOFFSETTO:+0200
TZNAME:CEST
DTSTART:20190331T010000
END:DAYLIGHT
BEGIN:STANDARD
TZOFFSETFROM:+0200
TZOFFSETTO:+0100
TZNAME:CET
DTSTART:20191027T010000
END:STANDARD
BEGIN:DAYLIGHT
TZOFFSETFROM:+0100
TZOFFSETTO:+0200
TZNAME:CEST
DTSTART:20200329T010000
END:DAYLIGHT
BEGIN:STANDARD
TZOFFSETFROM:+0200
TZOFFSETTO:+0100
TZNAME:CET
DTSTART:20201025T010000
END:STANDARD
END:VTIMEZONE
BEGIN:VEVENT
DTSTART;TZID=Europe/Paris:20190406T140000
DTEND;TZID=Europe/Paris:20190406T170000
DTSTAMP:20260426T020934
CREATED:20181216T144406Z
LAST-MODIFIED:20181216T144406Z
UID:2632-1554559200-1554570000@www.latruitedeliton.fr
SUMMARY:Club Mouche
DESCRIPTION:
URL:https://www.latruitedeliton.fr/agenda/club-mouche-29/
LOCATION:Mairie de Glisolles\, 16 Rue du Duc de Clermont Tonnerre\, Glisolles\, 27190\, France
CATEGORIES:Club Mouche
END:VEVENT
BEGIN:VEVENT
DTSTART;TZID=Europe/Paris:20190420T140000
DTEND;TZID=Europe/Paris:20190420T170000
DTSTAMP:20260426T020934
CREATED:20181216T144443Z
LAST-MODIFIED:20181216T144443Z
UID:2634-1555768800-1555779600@www.latruitedeliton.fr
SUMMARY:Club Mouche
DESCRIPTION:
URL:https://www.latruitedeliton.fr/agenda/club-mouche-30/
LOCATION:Mairie de Glisolles\, 16 Rue du Duc de Clermont Tonnerre\, Glisolles\, 27190\, France
END:VEVENT
BEGIN:VEVENT
DTSTART;TZID=Europe/Paris:20190426T183000
DTEND;TZID=Europe/Paris:20190426T213000
DTSTAMP:20260426T020934
CREATED:20181118T163739Z
LAST-MODIFIED:20181118T163739Z
UID:2608-1556303400-1556314200@www.latruitedeliton.fr
SUMMARY:Conseil d'administration
DESCRIPTION:Le conseil d’administration de votre AAPPMA a lieu régulièrement le vendredi  à la Mairie d’Evreux\, à partir de 18h30. \nLes dates des prochains conseils d’administration sont indiqués dans l’agenda. Si vous êtes curieux de connaitre les administrateurs de votre association\, envoyez un email deux semaines avant la date choisie pour confirmer votre venue  à : latruitedeliton@gmail.com.
URL:https://www.latruitedeliton.fr/agenda/conseil-dadministration-10/
END:VEVENT
END:VCALENDAR