BEGIN:VCALENDAR
VERSION:2.0
PRODID:-//La Truite de l&#039;Iton - ECPv6.15.20//NONSGML v1.0//EN
CALSCALE:GREGORIAN
METHOD:PUBLISH
X-ORIGINAL-URL:https://www.latruitedeliton.fr
X-WR-CALDESC:Évènements pour La Truite de l&#039;Iton
REFRESH-INTERVAL;VALUE=DURATION:PT1H
X-Robots-Tag:noindex
X-PUBLISHED-TTL:PT1H
BEGIN:VTIMEZONE
TZID:Europe/Paris
BEGIN:DAYLIGHT
TZOFFSETFROM:+0100
TZOFFSETTO:+0200
TZNAME:CEST
DTSTART:20180325T010000
END:DAYLIGHT
BEGIN:STANDARD
TZOFFSETFROM:+0200
TZOFFSETTO:+0100
TZNAME:CET
DTSTART:20181028T010000
END:STANDARD
BEGIN:DAYLIGHT
TZOFFSETFROM:+0100
TZOFFSETTO:+0200
TZNAME:CEST
DTSTART:20190331T010000
END:DAYLIGHT
BEGIN:STANDARD
TZOFFSETFROM:+0200
TZOFFSETTO:+0100
TZNAME:CET
DTSTART:20191027T010000
END:STANDARD
BEGIN:DAYLIGHT
TZOFFSETFROM:+0100
TZOFFSETTO:+0200
TZNAME:CEST
DTSTART:20200329T010000
END:DAYLIGHT
BEGIN:STANDARD
TZOFFSETFROM:+0200
TZOFFSETTO:+0100
TZNAME:CET
DTSTART:20201025T010000
END:STANDARD
END:VTIMEZONE
BEGIN:VEVENT
DTSTART;VALUE=DATE:20190907
DTEND;VALUE=DATE:20190909
DTSTAMP:20260425T175045
CREATED:20190828T075140Z
LAST-MODIFIED:20190926T062136Z
UID:2767-1567814400-1567987199@www.latruitedeliton.fr
SUMMARY:Nous sommes au Forum des Associations d'Evreux les Samedi 07 et Dimanche 08 Septembre 2019 !
DESCRIPTION:
URL:https://www.latruitedeliton.fr/agenda/nous-sommes-au-forum-des-associations-devreux-les-samedi-07-et-dimanche-08-septembre-2019/
ATTACH;FMTTYPE=image/jpeg:https://www.latruitedeliton.fr/wp-content/uploads/2019/09/2019-09-06-Forum-associations-evreux-1.jpg
END:VEVENT
BEGIN:VEVENT
DTSTART;TZID=Europe/Paris:20190913T183000
DTEND;TZID=Europe/Paris:20190913T213000
DTSTAMP:20260425T175045
CREATED:20181118T163955Z
LAST-MODIFIED:20181118T163955Z
UID:2612-1568399400-1568410200@www.latruitedeliton.fr
SUMMARY:Conseil d'administration
DESCRIPTION:Le conseil d’administration de votre AAPPMA a lieu régulièrement le vendredi  à la Mairie d’Evreux\, à partir de 18h30. \nLes dates des prochains conseils d’administration sont indiqués dans l’agenda. Si vous êtes curieux de connaitre les administrateurs de votre association\, envoyez un email deux semaines avant la date choisie pour confirmer votre venue  à : latruitedeliton@gmail.com.
URL:https://www.latruitedeliton.fr/agenda/conseil-dadministration-12/
END:VEVENT
BEGIN:VEVENT
DTSTART;TZID=Europe/Paris:20190914T140000
DTEND;TZID=Europe/Paris:20190914T170000
DTSTAMP:20260425T175045
CREATED:20181216T144846Z
LAST-MODIFIED:20181216T144846Z
UID:2646-1568469600-1568480400@www.latruitedeliton.fr
SUMMARY:Club Mouche
DESCRIPTION:
URL:https://www.latruitedeliton.fr/agenda/club-mouche-36/
LOCATION:Mairie de Glisolles\, 16 Rue du Duc de Clermont Tonnerre\, Glisolles\, 27190\, France
CATEGORIES:Club Mouche
END:VEVENT
BEGIN:VEVENT
DTSTART;VALUE=DATE:20190915
DTEND;VALUE=DATE:20190916
DTSTAMP:20260425T175045
CREATED:20190904T122754Z
LAST-MODIFIED:20190904T122754Z
UID:2794-1568505600-1568591999@www.latruitedeliton.fr
SUMMARY:Fermeture de la 1ère catégorie
DESCRIPTION:
URL:https://www.latruitedeliton.fr/agenda/fermeture-de-la-1ere-categorie/
END:VEVENT
BEGIN:VEVENT
DTSTART;TZID=Europe/Paris:20190928T140000
DTEND;TZID=Europe/Paris:20190928T170000
DTSTAMP:20260425T175045
CREATED:20181216T144920Z
LAST-MODIFIED:20190926T100604Z
UID:2648-1569679200-1569690000@www.latruitedeliton.fr
SUMMARY:Club Mouche
DESCRIPTION:
URL:https://www.latruitedeliton.fr/agenda/club-mouche-37/
LOCATION:Mairie de Glisolles\, 16 Rue du Duc de Clermont Tonnerre\, Glisolles\, 27190\, France
END:VEVENT
END:VCALENDAR