BEGIN:VCALENDAR
VERSION:2.0
PRODID:-//La Truite de l&#039;Iton - ECPv6.15.20//NONSGML v1.0//EN
CALSCALE:GREGORIAN
METHOD:PUBLISH
X-WR-CALNAME:La Truite de l&#039;Iton
X-ORIGINAL-URL:https://www.latruitedeliton.fr
X-WR-CALDESC:Évènements pour La Truite de l&#039;Iton
REFRESH-INTERVAL;VALUE=DURATION:PT1H
X-Robots-Tag:noindex
X-PUBLISHED-TTL:PT1H
BEGIN:VTIMEZONE
TZID:Europe/Paris
BEGIN:DAYLIGHT
TZOFFSETFROM:+0100
TZOFFSETTO:+0200
TZNAME:CEST
DTSTART:20180325T010000
END:DAYLIGHT
BEGIN:STANDARD
TZOFFSETFROM:+0200
TZOFFSETTO:+0100
TZNAME:CET
DTSTART:20181028T010000
END:STANDARD
BEGIN:DAYLIGHT
TZOFFSETFROM:+0100
TZOFFSETTO:+0200
TZNAME:CEST
DTSTART:20190331T010000
END:DAYLIGHT
BEGIN:STANDARD
TZOFFSETFROM:+0200
TZOFFSETTO:+0100
TZNAME:CET
DTSTART:20191027T010000
END:STANDARD
BEGIN:DAYLIGHT
TZOFFSETFROM:+0100
TZOFFSETTO:+0200
TZNAME:CEST
DTSTART:20200329T010000
END:DAYLIGHT
BEGIN:STANDARD
TZOFFSETFROM:+0200
TZOFFSETTO:+0100
TZNAME:CET
DTSTART:20201025T010000
END:STANDARD
END:VTIMEZONE
BEGIN:VEVENT
DTSTART;VALUE=DATE:20191012
DTEND;VALUE=DATE:20191013
DTSTAMP:20260425T160354
CREATED:20190926T061809Z
LAST-MODIFIED:20190926T094850Z
UID:2812-1570838400-1570924799@www.latruitedeliton.fr
SUMMARY:Samedi 12 Octobre : Rejoignez-nous pour le nettoyage de l'Iton !
DESCRIPTION:Rendez-vous à partir de 9h00 sur le parking du S.A.V. de Cora-Evreux
URL:https://www.latruitedeliton.fr/agenda/samedi-12-octobre-rejoignez-nous-pour-le-nettoyage-de-liton/
LOCATION:Parking du SAV de Cora – Evreux
CATEGORIES:Club Mouche,Travaux
ATTACH;FMTTYPE=image/png:https://www.latruitedeliton.fr/wp-content/uploads/2019/09/2019-09-25-Nettoyage-rivière.png
END:VEVENT
BEGIN:VEVENT
DTSTART;TZID=Europe/Paris:20191012T140000
DTEND;TZID=Europe/Paris:20191012T170000
DTSTAMP:20260425T160354
CREATED:20181216T144955Z
LAST-MODIFIED:20190926T100739Z
UID:2650-1570888800-1570899600@www.latruitedeliton.fr
SUMMARY:Club Mouche
DESCRIPTION:
URL:https://www.latruitedeliton.fr/agenda/club-mouche-38/
LOCATION:Mairie de Glisolles\, 16 Rue du Duc de Clermont Tonnerre\, Glisolles\, 27190\, France
CATEGORIES:Club Mouche
END:VEVENT
BEGIN:VEVENT
DTSTART;TZID=Europe/Paris:20191026T140000
DTEND;TZID=Europe/Paris:20191026T170000
DTSTAMP:20260425T160354
CREATED:20181216T145036Z
LAST-MODIFIED:20190926T100834Z
UID:2652-1572098400-1572109200@www.latruitedeliton.fr
SUMMARY:Club Mouche
DESCRIPTION:
URL:https://www.latruitedeliton.fr/agenda/club-mouche-39/
LOCATION:Mairie de Glisolles\, 16 Rue du Duc de Clermont Tonnerre\, Glisolles\, 27190\, France
END:VEVENT
END:VCALENDAR